BEGIN:VCALENDAR
VERSION:2.0
PRODID:-//Linking Indy Women - ECPv6.14.0//NONSGML v1.0//EN
CALSCALE:GREGORIAN
METHOD:PUBLISH
X-WR-CALNAME:Linking Indy Women
X-ORIGINAL-URL:https://linkingindywomen.com
X-WR-CALDESC:Events for Linking Indy Women
REFRESH-INTERVAL;VALUE=DURATION:PT1H
X-Robots-Tag:noindex
X-PUBLISHED-TTL:PT1H
BEGIN:VTIMEZONE
TZID:America/Indiana/Indianapolis
BEGIN:DAYLIGHT
TZOFFSETFROM:-0500
TZOFFSETTO:-0400
TZNAME:EDT
DTSTART:20190310T070000
END:DAYLIGHT
BEGIN:STANDARD
TZOFFSETFROM:-0400
TZOFFSETTO:-0500
TZNAME:EST
DTSTART:20191103T060000
END:STANDARD
END:VTIMEZONE
BEGIN:VEVENT
DTSTART;TZID=America/Indiana/Indianapolis:20190619T073000
DTEND;TZID=America/Indiana/Indianapolis:20190619T090000
DTSTAMP:20260421T072401
CREATED:20190619T200527Z
LAST-MODIFIED:20190619T200527Z
UID:28724-1560929400-1560934800@linkingindywomen.com
SUMMARY:Linking Indy Women Presents: Negotiation: A Women's Most Powerful Career Tool
DESCRIPTION:Linking Indy Women Presents: Negotiation: A Women’s Most Powerful Career Tool\nGUEST SPEAKER: Charlotte Westerhaus-Renfrow\, Assitant Clinical Professor at the Kelley School of Business \nCharlotte is an Assistant Clinical Professor in the Department of Management and Business Law at the Kelley School of Business – Indianapolis where she teaches undergraduate and MBA courses focused on team dynamics\, leadership\, negotiations\, and cultural intelligence. Her educational credentials include an undergraduate degree in journalism and a master’s degree in higher education administration from Ohio University; and a J.D. degree from the Maurer School of Law\, Indiana University.\nCharlotte’s academic insights are enhanced by her practical and senior managerial experience leading professional development initiatives and inclusive diversity programs at the National Collegiate Athletic Association (NCAA)\, University of Iowa\, Purdue University and Rockwell Collins.\nCharlotte is a highly sought-after consultant and speaker that works with organizations who seek to foster and support a culture of inclusion and innovation. Charlotte is known for her ability to engage and teach audiences how to effectively communicate and develop collaborative skills to enable individuals to build and sustain inclusive high-performing teams in all functional areas of an organization. Charlotte is a regular contributor to the Indiana Business Journal and the Hamilton County Business Journal.\nEVENT AGENDA\n7:30am     Coffee & Bagels! \n8:00          Welcome Guest Speaker\, Charlotte Westerhaus-Renfrow\n8:30          Q & A\n9:00         See You Next Time!  \nOUR SPONSORS:  \nThe Hatch\, Kicks Digital Marketing\, Tinker Coffee Co. \n \n \n \n 
URL:https://linkingindywomen.com/event/linking-indy-women-presents-negotiation-a-womens-most-powerful-career-tool/
LOCATION:The Hatch\,  6161 Hillside Ave\, Indianapolis\, IN\, 46220\, United States
CATEGORIES:Linking Indy Women
END:VEVENT
END:VCALENDAR