BEGIN:VCALENDAR
VERSION:2.0
PRODID:-//Linking Indy Women - ECPv6.14.0//NONSGML v1.0//EN
CALSCALE:GREGORIAN
METHOD:PUBLISH
X-ORIGINAL-URL:https://linkingindywomen.com
X-WR-CALDESC:Events for Linking Indy Women
REFRESH-INTERVAL;VALUE=DURATION:PT1H
X-Robots-Tag:noindex
X-PUBLISHED-TTL:PT1H
BEGIN:VTIMEZONE
TZID:America/Indiana/Indianapolis
BEGIN:DAYLIGHT
TZOFFSETFROM:-0500
TZOFFSETTO:-0400
TZNAME:EDT
DTSTART:20200308T070000
END:DAYLIGHT
BEGIN:STANDARD
TZOFFSETFROM:-0400
TZOFFSETTO:-0500
TZNAME:EST
DTSTART:20201101T060000
END:STANDARD
END:VTIMEZONE
BEGIN:VEVENT
DTSTART;TZID=America/Indiana/Indianapolis:20200219T073000
DTEND;TZID=America/Indiana/Indianapolis:20200219T090000
DTSTAMP:20260421T072623
CREATED:20200224T113804Z
LAST-MODIFIED:20200224T113804Z
UID:28908-1582097400-1582102800@linkingindywomen.com
SUMMARY:Linking Indy Women Presents: The Value of Vulnerability in the Workplace
DESCRIPTION:Linking Indy Women Presents: The Value of Vulnerability in the Workplace\nGUEST SPEAKER: Lisa Sirkin Vielee\, President of Well Done Marketing \nWell Done Marketing president Lisa Sirkin Vielee’s marketing and communications career spans 30 years with leadership positions in nonprofit\, education\, government\, and marketing agencies. In 2005\, Vielee founded Gracie Communications to provide public relations and marketing consulting services to nonprofits including the Indianapolis Symphony Orchestra\, Marian University\, and the Julian Center. In 2015\, Gracie Communications merged with Well Done Marketing to create a full-service marketing agency.\nVielee is an active member of the greater Indianapolis community\, currently serving on the board of the Health Foundation of Greater Indianapolis. She also is a mentor for Pass the Torch for Women\, and an outspoken advocate for gender equality and diversity in the marketing industry.\nEVENT AGENDA\n7:30am     Coffee & Food! \n8:00          Welcome Guest Speaker\, Lisa Sirkin Vielee\n8:45          Q & A\n9:00         See You Next Time!  \nOUR SPONSORS:  \nThe Hatch\, Kicks Digital Marketing\, Tinker Coffee Co. \n \n \n \n 
URL:https://linkingindywomen.com/event/linking-indy-women-presents-the-value-of-vulnerability-in-the-workplace/
LOCATION:The Hatch\,  6161 Hillside Ave\, Indianapolis\, IN\, 46220\, United States
CATEGORIES:Linking Indy Women
ATTACH;FMTTYPE=image/jpeg:https://cdn.kicksdigital.com/linkingindywomen.com/2020/01/The-Hatch.jpg
END:VEVENT
END:VCALENDAR