BEGIN:VCALENDAR
VERSION:2.0
PRODID:-//Linking Indy Women - ECPv6.14.0//NONSGML v1.0//EN
CALSCALE:GREGORIAN
METHOD:PUBLISH
X-WR-CALNAME:Linking Indy Women
X-ORIGINAL-URL:https://linkingindywomen.com
X-WR-CALDESC:Events for Linking Indy Women
REFRESH-INTERVAL;VALUE=DURATION:PT1H
X-Robots-Tag:noindex
X-PUBLISHED-TTL:PT1H
BEGIN:VTIMEZONE
TZID:America/Indiana/Indianapolis
BEGIN:DAYLIGHT
TZOFFSETFROM:-0500
TZOFFSETTO:-0400
TZNAME:EDT
DTSTART:20190310T070000
END:DAYLIGHT
BEGIN:STANDARD
TZOFFSETFROM:-0400
TZOFFSETTO:-0500
TZNAME:EST
DTSTART:20191103T060000
END:STANDARD
END:VTIMEZONE
BEGIN:VEVENT
DTSTART;TZID=America/Indiana/Indianapolis:20190918T073000
DTEND;TZID=America/Indiana/Indianapolis:20190918T090000
DTSTAMP:20260420T093322
CREATED:20190918T201010Z
LAST-MODIFIED:20190918T201010Z
UID:28797-1568791800-1568797200@linkingindywomen.com
SUMMARY:Linking Indy Women Presents: Uplevel Your Story
DESCRIPTION:Linking Indy Women Presents: Uplevel Your Story\nGUEST SPEAKER: Erinn Bridgman\, Founder of Bridging Herstory \nErinn Bridgman is a business coach\, sales expert\, podcast host\, speaker and founder of the Bridging Herstory Community. Her coaching perspective is birthed out of her door-to-door bookselling experience\, where she not only fell in love with sales and finished in the top 10 in the nation\, but learned the power of mindset\, talent development and habit formation.\nThrough the lens of positive psychology as a certified StrengthsFinder coach she believes in taking charge of your own destiny and empowers others to break through the barriers of society and self-belief to reach the highest level of impact through your natural talent. As a serial entrepreneur she’s the founder of 3 6-figure companies & helps women find numbers sexy and propels them to triple their brands\, crush their sales goals and grow their paycheck.\nShe founded the Bridging Herstory Community as an extension of her coaching. As a keynote speaker\, podcast host and serial girlboss dinner party thrower she is breaking the loneliness paradigm of entrepreneurship through connecting women to resources and one another other.\nShe lives in a 1950’s home in Indianapolis\, that she renovated by hand alongside her husband Brent\, who is her biggest fan and best friend. You’ll find her with a smile on her face anytime she’s exploring new foods\, bike riding or lake livin’.\nEVENT AGENDA\n7:30am     Coffee & Food! \n8:00          Welcome Guest Speaker\, Erinn Bridgman\n8:30          Q & A\n9:00         See You Next Time!  \nOUR SPONSORS:  \nThe Hatch\, Kicks Digital Marketing\, Tinker Coffee Co. \n \n \n \n 
URL:https://linkingindywomen.com/event/linking-indy-women-presents-erinn-bridgman/
LOCATION:The Hatch\,  6161 Hillside Ave\, Indianapolis\, IN\, 46220\, United States
END:VEVENT
END:VCALENDAR