BEGIN:VCALENDAR
VERSION:2.0
PRODID:-//Linking Indy Women - ECPv6.14.0//NONSGML v1.0//EN
CALSCALE:GREGORIAN
METHOD:PUBLISH
X-WR-CALNAME:Linking Indy Women
X-ORIGINAL-URL:https://linkingindywomen.com
X-WR-CALDESC:Events for Linking Indy Women
REFRESH-INTERVAL;VALUE=DURATION:PT1H
X-Robots-Tag:noindex
X-PUBLISHED-TTL:PT1H
BEGIN:VTIMEZONE
TZID:America/Indiana/Indianapolis
BEGIN:DAYLIGHT
TZOFFSETFROM:-0500
TZOFFSETTO:-0400
TZNAME:EDT
DTSTART:20110313T070000
END:DAYLIGHT
BEGIN:STANDARD
TZOFFSETFROM:-0400
TZOFFSETTO:-0500
TZNAME:EST
DTSTART:20111106T060000
END:STANDARD
END:VTIMEZONE
BEGIN:VEVENT
DTSTART;TZID=America/Indiana/Indianapolis:20111013T073000
DTEND;TZID=America/Indiana/Indianapolis:20111013T090000
DTSTAMP:20260421T164843
CREATED:20200819T183402Z
LAST-MODIFIED:20200819T183402Z
UID:29152-1318491000-1318496400@linkingindywomen.com
SUMMARY:Linking Indy Women: Transforming Lives in Our Community!
DESCRIPTION:Linking Indy Women: Transforming Lives in Our Community!\n \nGuest Speaker: Jennifer Vigran\, CEO of Second Helpings\n\n   Jennifer Vigran is about to celebrate her one-year anniversary serving as the CEO of Second Helpings\, an engagement which followed over a decade as a full-time community volunteer. Among her other professional roles\, Jennifer previously served as Indiana State Personnel Director and Vice President of Human Resources for Support Net\, Inc. Her path to leading one of Indianapolis’ largest hunger relief organizations may not be conventional\, but it is based on a passion for Second Helpings’ mission to transform lives through the power of food. \n\nJennifer will share with us her personal journey as well as how Second Helpings is taking steps to dramatically increase its role in combating hunger and poverty in Central Indiana. \nSecond Helpings will be providing a light breakfast and tours!Donations for Second Helpings are optional\, but very welcome!\n\n \n \n Agenda\n7:30      Breakfast/Informal Networking\n8:00     Welcome\n                Guest Speaker Jennifer Vigran\, CEO Second Helpings\n8:30      Facilitated Q & A\n                Closing Remarks\n9:00     Adjourn\n \n\nSponsored by: \n \n \n \n \n \n \n \n \n\n\n\n \n\n\n\nThe mission of Linking Indy Women is to connect women looking to inspire or be inspired through building business relationships with one another.\n \n \n \n \n \n \n \n \n \n \n \n \n \n 
URL:https://linkingindywomen.com/event/linking-indy-women-transforming-lives-in-our-community/
LOCATION:Second Helpings\, 1121 Southeastern Ave\, Indianapolis\, IN\, 46202\, United States
END:VEVENT
END:VCALENDAR