BEGIN:VCALENDAR
VERSION:2.0
PRODID:-//Linking Indy Women - ECPv6.14.0//NONSGML v1.0//EN
CALSCALE:GREGORIAN
METHOD:PUBLISH
X-WR-CALNAME:Linking Indy Women
X-ORIGINAL-URL:https://linkingindywomen.com
X-WR-CALDESC:Events for Linking Indy Women
REFRESH-INTERVAL;VALUE=DURATION:PT1H
X-Robots-Tag:noindex
X-PUBLISHED-TTL:PT1H
BEGIN:VTIMEZONE
TZID:America/Indiana/Indianapolis
BEGIN:DAYLIGHT
TZOFFSETFROM:-0500
TZOFFSETTO:-0400
TZNAME:EDT
DTSTART:20220313T070000
END:DAYLIGHT
BEGIN:STANDARD
TZOFFSETFROM:-0400
TZOFFSETTO:-0500
TZNAME:EST
DTSTART:20221106T060000
END:STANDARD
END:VTIMEZONE
BEGIN:VEVENT
DTSTART;TZID=America/Indiana/Indianapolis:20220420T080000
DTEND;TZID=America/Indiana/Indianapolis:20220420T093000
DTSTAMP:20260422T004518
CREATED:20220425T105819Z
LAST-MODIFIED:20220425T105819Z
UID:29458-1650441600-1650447000@linkingindywomen.com
SUMMARY:Linking Indy Women Presents: No One Cares!
DESCRIPTION:Linking Indy Women Presents: No One Cares!
URL:https://linkingindywomen.com/event/linking-indy-women-presents-no-one-cares/
LOCATION:Refinery46\, 2201 E 46th St\, Indianapolis\, IN 46205\, Indianapolis\, IN\, 46220\, United States
END:VEVENT
END:VCALENDAR