BEGIN:VCALENDAR
VERSION:2.0
PRODID:-//Linking Indy Women - ECPv6.14.0//NONSGML v1.0//EN
CALSCALE:GREGORIAN
METHOD:PUBLISH
X-WR-CALNAME:Linking Indy Women
X-ORIGINAL-URL:https://linkingindywomen.com
X-WR-CALDESC:Events for Linking Indy Women
REFRESH-INTERVAL;VALUE=DURATION:PT1H
X-Robots-Tag:noindex
X-PUBLISHED-TTL:PT1H
BEGIN:VTIMEZONE
TZID:America/Indiana/Indianapolis
BEGIN:DAYLIGHT
TZOFFSETFROM:-0500
TZOFFSETTO:-0400
TZNAME:EDT
DTSTART:20140309T070000
END:DAYLIGHT
BEGIN:STANDARD
TZOFFSETFROM:-0400
TZOFFSETTO:-0500
TZNAME:EST
DTSTART:20141102T060000
END:STANDARD
END:VTIMEZONE
BEGIN:VEVENT
DTSTART;TZID=America/Indiana/Indianapolis:20140724T173000
DTEND;TZID=America/Indiana/Indianapolis:20140724T200000
DTSTAMP:20260421T085753
CREATED:20201211T084923Z
LAST-MODIFIED:20201211T084923Z
UID:29239-1406223000-1406232000@linkingindywomen.com
SUMMARY:Linking Indy Women Presents: It's a New Day!
DESCRIPTION: \n \n \nLinking Indy Women Presents: \n \nIt’s a New Day! \n \n \nGuest Speaker: Tia Agnew\, Owner New Day Craft\n     \nTia Agnew is Co-Owner & CEO of New Day Craft\, a company specializing in the production and sale of craft mead and hard cider.  The road she has taken to get here is a winding one: Beginning her career as a Wildlife Biologist\, she moved from population studies to watershed management to project management\, technical and grant writing.  Her previous work helped prepare her for an entrepreneurial career in a field that simultaneously requires the comprehension of minute details while orchestrating the evolution of the entire corporate ecosystem. \nSince her company’s move to Indianapolis four years ago\, New Day Craft has grown exponentially and is looking to continue doing so as the company looks for opportunities outside Indiana’s boarders.  It’s been a wild ride\, and Tia looks for more and greater thrills yet to come!\nCome join us to hear her inspiring story! \nFollow Tia and New Day Craft on Twitter: @newdaycraft\n\n\nAGENDA\n5:30           Informal Networking\n6:00           Welcome Guest Speaker\, Tia Agnew\n6:30           Facilitated Question and Answer\n8:00           See You Next Time! \n \n \nSponsored by: \n \n \n \n \n \n \n \n \n \n \n \n \nOur mission is simple: we inspire women by sharing personal stories\, connecting\, and providing real business experiences.\n \n 
URL:https://linkingindywomen.com/event/linking-indy-women-presents-its-a-new-day/
LOCATION:1102 Prospect Street\, Indianapolis\, IN\, 46203\, United States
END:VEVENT
END:VCALENDAR